BEGIN:VCALENDAR
VERSION:2.0
PRODID:-//eventon.com NONSGML v1.0//EN
BEGIN:VEVENT
UID:69e68f00578c2
DTSTAMP:20260420T213928
DTSTART:20230525T210000Z
DTEND:20230526T010000Z
TZID:Pacific/Midway
LOCATION:WomenZone WomenZone\,  19-21 Hubert Street\,  BD3 9TE
SUMMARY:Hubert St. Kitchen
DESCRIPTION: We have a changing specials board each day with seasonal healthy food and drink at reasonable prices. All of our food is Halal and a baby menu is available on request. You can check our menu here\nhttps://womenzone.co.uk/events/hubert-st-kitchen/var/ri-162.l-L1
URL:https://womenzone.co.uk/events/hubert-st-kitchen/var/ri-162.l-L1
END:VEVENT
END:VCALENDAR