BEGIN:VCALENDAR
VERSION:2.0
PRODID:-//eventon.com NONSGML v1.0//EN
BEGIN:VEVENT
UID:69e68de6d6bb3
DTSTAMP:20260420T213446
DTSTART:20230529T210000Z
DTEND:20230530T010000Z
TZID:Pacific/Midway
LOCATION:WomenZone WomenZone\,  19-21 Hubert Street\,  BD3 9TE
SUMMARY:ESOL Classes
DESCRIPTION: To learn more about our ESOL Classes click here. To register please contact Abida on 01274 665270 or email abidahussain@womenzonecc.co.uk &nbsp;\nhttps://womenzone.co.uk/events/esol-classes/var/ri-65.l-L1
URL:https://womenzone.co.uk/events/esol-classes/var/ri-65.l-L1
END:VEVENT
END:VCALENDAR