BEGIN:VCALENDAR
VERSION:2.0
PRODID:-//eventon.com NONSGML v1.0//EN
BEGIN:VEVENT
UID:69e68dbdbfb23
DTSTAMP:20260420T213405
DTSTART:20230529T203000Z
DTEND:20230530T030000Z
TZID:Pacific/Midway
LOCATION:WomenZone WomenZone\,  19-21 Hubert Street\,  BD3 9TE
SUMMARY:Stay & Play Session
DESCRIPTION: We believe that collaborating with parents is vital to help children grow and learn. This also helps parents/carers to understand more about their children’s development and skillsets. Join us at The Play Gym to create big little moments with your child. To learn more please click here\nhttps://womenzone.co.uk/events/stay-play-session-2/var/ri-65.l-L1
URL:https://womenzone.co.uk/events/stay-play-session-2/var/ri-65.l-L1
END:VEVENT
END:VCALENDAR