BEGIN:VCALENDAR
VERSION:2.0
PRODID:-//eventon.com NONSGML v1.0//EN
BEGIN:VEVENT
UID:69e68de6d13dc
DTSTAMP:20260420T213446
DTSTART:20230531T233000Z
DTEND:20230601T013000Z
TZID:Pacific/Midway
LOCATION:
SUMMARY:Baby Art Attack
DESCRIPTION: Sessions are full of fun and stimulating activities for children to explore from early ages. Every week there&#8217;s a new theme! For more information\,  please click here.\nhttps://womenzone.co.uk/events/baby-art-attack/var/ri-31.l-L1
URL:https://womenzone.co.uk/events/baby-art-attack/var/ri-31.l-L1
END:VEVENT
END:VCALENDAR