BEGIN:VCALENDAR
VERSION:2.0
PRODID:-//eventon.com NONSGML v1.0//EN
BEGIN:VEVENT
UID:69e68e77bcff3
DTSTAMP:20260420T213711
DTSTART:20230517T230000Z
DTEND:20230518T060000Z
TZID:Pacific/Midway
LOCATION:WomenZone WomenZone\,  19-21 Hubert Street\,  BD3 9TE
SUMMARY:Stay & Play Session
DESCRIPTION: Stay & Play Session\nhttps://womenzone.co.uk/events/stay-play-session-3/var/ri-63.l-L1
URL:https://womenzone.co.uk/events/stay-play-session-3/var/ri-63.l-L1
END:VEVENT
END:VCALENDAR