BEGIN:VCALENDAR
VERSION:2.0
PRODID:-//eventon.com NONSGML v1.0//EN
BEGIN:VEVENT
UID:69e68e1023e11
DTSTAMP:20260420T213528
DTSTART:20230518T230000Z
DTEND:20230519T060000Z
TZID:Pacific/Midway
LOCATION:WomenZone WomenZone\,  19-21 Hubert Street\,  BD3 9TE
SUMMARY:Stay & Play Session
DESCRIPTION: Stay & Play Session\nhttps://womenzone.co.uk/events/stay-play-session-3/var/ri-64.l-L1
URL:https://womenzone.co.uk/events/stay-play-session-3/var/ri-64.l-L1
END:VEVENT
END:VCALENDAR