BEGIN:VCALENDAR
VERSION:2.0
PRODID:-//eventon.com NONSGML v1.0//EN
BEGIN:VEVENT
UID:69e68e7de79a9
DTSTAMP:20260420T213717
DTSTART:20230525T230000Z
DTEND:20230526T060000Z
TZID:Pacific/Midway
LOCATION:WomenZone WomenZone\,  19-21 Hubert Street\,  BD3 9TE
SUMMARY:Stay & Play Session
DESCRIPTION: Stay & Play Session\nhttps://womenzone.co.uk/events/stay-play-session-3/var/ri-66.l-L1
URL:https://womenzone.co.uk/events/stay-play-session-3/var/ri-66.l-L1
END:VEVENT
END:VCALENDAR