BEGIN:VCALENDAR
VERSION:2.0
PRODID:-//eventon.com NONSGML v1.0//EN
BEGIN:VEVENT
UID:69e68e2a88024
DTSTAMP:20260420T213554
DTSTART:20230511T201500Z
DTEND:20230511T210000Z
TZID:Pacific/Midway
LOCATION:
SUMMARY:HIIT
DESCRIPTION: HIIT\nhttps://womenzone.co.uk/events/hitt/var/ri-19.l-L1
URL:https://womenzone.co.uk/events/hitt/var/ri-19.l-L1
END:VEVENT
END:VCALENDAR