BEGIN:VCALENDAR
VERSION:2.0
PRODID:-//eventon.com NONSGML v1.0//EN
BEGIN:VEVENT
UID:69e68db2422ab
DTSTAMP:20260420T213354
DTSTART:20230518T201500Z
DTEND:20230518T210000Z
TZID:Pacific/Midway
LOCATION:
SUMMARY:HIIT
DESCRIPTION: HIIT\nhttps://womenzone.co.uk/events/hitt/var/ri-20.l-L1
URL:https://womenzone.co.uk/events/hitt/var/ri-20.l-L1
END:VEVENT
END:VCALENDAR